BEGIN:VCALENDAR
VERSION:2.0
PRODID:-//Heinz-Berggruen-Gymnasium Berlin - ECPv6.15.20//NONSGML v1.0//EN
CALSCALE:GREGORIAN
METHOD:PUBLISH
X-WR-CALNAME:Heinz-Berggruen-Gymnasium Berlin
X-ORIGINAL-URL:https://hbgym.de
X-WR-CALDESC:Veranstaltungen für Heinz-Berggruen-Gymnasium Berlin
REFRESH-INTERVAL;VALUE=DURATION:PT1H
X-Robots-Tag:noindex
X-PUBLISHED-TTL:PT1H
BEGIN:VTIMEZONE
TZID:Europe/Berlin
BEGIN:DAYLIGHT
TZOFFSETFROM:+0100
TZOFFSETTO:+0200
TZNAME:CEST
DTSTART:20240331T010000
END:DAYLIGHT
BEGIN:STANDARD
TZOFFSETFROM:+0200
TZOFFSETTO:+0100
TZNAME:CET
DTSTART:20241027T010000
END:STANDARD
BEGIN:DAYLIGHT
TZOFFSETFROM:+0100
TZOFFSETTO:+0200
TZNAME:CEST
DTSTART:20250330T010000
END:DAYLIGHT
BEGIN:STANDARD
TZOFFSETFROM:+0200
TZOFFSETTO:+0100
TZNAME:CET
DTSTART:20251026T010000
END:STANDARD
BEGIN:DAYLIGHT
TZOFFSETFROM:+0100
TZOFFSETTO:+0200
TZNAME:CEST
DTSTART:20260329T010000
END:DAYLIGHT
BEGIN:STANDARD
TZOFFSETFROM:+0200
TZOFFSETTO:+0100
TZNAME:CET
DTSTART:20261025T010000
END:STANDARD
BEGIN:DAYLIGHT
TZOFFSETFROM:+0100
TZOFFSETTO:+0200
TZNAME:CEST
DTSTART:20270328T010000
END:DAYLIGHT
BEGIN:STANDARD
TZOFFSETFROM:+0200
TZOFFSETTO:+0100
TZNAME:CET
DTSTART:20271031T010000
END:STANDARD
END:VTIMEZONE
BEGIN:VEVENT
DTSTART;VALUE=DATE:20260216
DTEND;VALUE=DATE:20260228
DTSTAMP:20260419T155851
CREATED:20260104T120206Z
LAST-MODIFIED:20260104T120206Z
UID:49966-1771200000-1772236799@hbgym.de
SUMMARY:Betriebspraktikum der 10. Klassen
DESCRIPTION:
URL:https://hbgym.de/termin/betriebspraktikum-der-10-klassen/
END:VEVENT
BEGIN:VEVENT
DTSTART;TZID=Europe/Berlin:20260131T000000
DTEND;TZID=Europe/Berlin:20260208T233000
DTSTAMP:20260419T155851
CREATED:20260104T120037Z
LAST-MODIFIED:20260104T120037Z
UID:49964-1769817600-1770593400@hbgym.de
SUMMARY:Winterferien
DESCRIPTION:
URL:https://hbgym.de/termin/winterferien-2/
END:VEVENT
BEGIN:VEVENT
DTSTART;TZID=Europe/Berlin:20260130T095500
DTEND;TZID=Europe/Berlin:20260130T104000
DTSTAMP:20260419T155851
CREATED:20260104T115842Z
LAST-MODIFIED:20260104T115842Z
UID:49961-1769766900-1769769600@hbgym.de
SUMMARY:Zeugnisausgabe für die 5. bis 10. Klassen
DESCRIPTION:danach Unterrichtsschluss
URL:https://hbgym.de/termin/zeugnisausgabe-fuer-die-5-bis-10-klassen/
END:VEVENT
BEGIN:VEVENT
DTSTART;TZID=Europe/Berlin:20260127T190000
DTEND;TZID=Europe/Berlin:20260127T203000
DTSTAMP:20260419T155851
CREATED:20260115T174225Z
LAST-MODIFIED:20260115T174225Z
UID:50034-1769540400-1769545800@hbgym.de
SUMMARY:Aufführung DS Q4
DESCRIPTION:
URL:https://hbgym.de/termin/auffuehrung-ds-q4-2/
LOCATION:Aula
END:VEVENT
BEGIN:VEVENT
DTSTART;TZID=Europe/Berlin:20260126T190000
DTEND;TZID=Europe/Berlin:20260126T203000
DTSTAMP:20260419T155851
CREATED:20260115T174025Z
LAST-MODIFIED:20260115T174025Z
UID:50032-1769454000-1769459400@hbgym.de
SUMMARY:Aufführung DS Q4
DESCRIPTION:
URL:https://hbgym.de/termin/auffuehrung-ds-q4/
LOCATION:Aula
CATEGORIES:Veranstaltung allgemein
END:VEVENT
BEGIN:VEVENT
DTSTART;TZID=Europe/Berlin:20260120T130000
DTEND;TZID=Europe/Berlin:20260120T180000
DTSTAMP:20260419T155851
CREATED:20260104T114218Z
LAST-MODIFIED:20260104T114323Z
UID:49955-1768914000-1768932000@hbgym.de
SUMMARY:Zeugnisskonferenzen
DESCRIPTION:davor Unterricht nach Kurzstundenplan
URL:https://hbgym.de/termin/zeugnisskonferenzen/
END:VEVENT
BEGIN:VEVENT
DTSTART;TZID=Europe/Berlin:20260119T130000
DTEND;TZID=Europe/Berlin:20260119T180000
DTSTAMP:20260419T155851
CREATED:20260104T114116Z
LAST-MODIFIED:20260104T114116Z
UID:49952-1768827600-1768845600@hbgym.de
SUMMARY:Zeugniskonferenzen
DESCRIPTION:davor Unterricht nach Kurzstundenplan
URL:https://hbgym.de/termin/zeugniskonferenzen/
END:VEVENT
BEGIN:VEVENT
DTSTART;TZID=Europe/Berlin:20260117T100000
DTEND;TZID=Europe/Berlin:20260117T130000
DTSTAMP:20260419T155851
CREATED:20250707T081848Z
LAST-MODIFIED:20260104T114422Z
UID:45314-1768644000-1768654800@hbgym.de
SUMMARY:Tag der offenen Tür
DESCRIPTION:https://hbgym.de/tag-der-offenen-tuer-2026/
URL:https://hbgym.de/termin/tag-der-offenen-tuer-2/
END:VEVENT
BEGIN:VEVENT
DTSTART;TZID=Europe/Berlin:20260116T080000
DTEND;TZID=Europe/Berlin:20260116T133000
DTSTAMP:20260419T155851
CREATED:20260104T113834Z
LAST-MODIFIED:20260104T113911Z
UID:49949-1768550400-1768570200@hbgym.de
SUMMARY:Zeugnisse Q1 und Q3
DESCRIPTION:Q2 um 13:30 Info zur 5.PK
URL:https://hbgym.de/termin/zeugnisse-q1-und-q3/
END:VEVENT
BEGIN:VEVENT
DTSTART;TZID=Europe/Berlin:20251217T190000
DTEND;TZID=Europe/Berlin:20251217T220000
DTSTAMP:20260419T155851
CREATED:20251007T173556Z
LAST-MODIFIED:20251007T173556Z
UID:47565-1765998000-1766008800@hbgym.de
SUMMARY:Weihnachtskonzert (2. Abend)
DESCRIPTION:
URL:https://hbgym.de/termin/weihnachtskonzert-2-abend/
LOCATION:Universität der Künste\, Hardenbergstraße 33\, Berlin\, 10623
END:VEVENT
BEGIN:VEVENT
DTSTART;TZID=Europe/Berlin:20251216T190000
DTEND;TZID=Europe/Berlin:20251216T220000
DTSTAMP:20260419T155851
CREATED:20251007T173506Z
LAST-MODIFIED:20251007T173506Z
UID:47563-1765911600-1765922400@hbgym.de
SUMMARY:Weihnachtskonzert (1. Abend)
DESCRIPTION:
URL:https://hbgym.de/termin/weihnachtskonzert-1-abend/
LOCATION:Universität der Künste\, Hardenbergstraße 33\, Berlin\, 10623
END:VEVENT
BEGIN:VEVENT
DTSTART;TZID=Europe/Berlin:20251204T170000
DTEND;TZID=Europe/Berlin:20251204T180000
DTSTAMP:20260419T155851
CREATED:20251007T173241Z
LAST-MODIFIED:20251119T164252Z
UID:47559-1764867600-1764871200@hbgym.de
SUMMARY:Präsentation Kunstfahrt
DESCRIPTION:Einladung Warnemünde
URL:https://hbgym.de/termin/praesentation-kunstfahrt-3/
LOCATION:Aula\, Aulafoyer und weitere Räume
END:VEVENT
BEGIN:VEVENT
DTSTART;TZID=Europe/Berlin:20251121T180000
DTEND;TZID=Europe/Berlin:20251122T080000
DTSTAMP:20260419T155851
CREATED:20251007T172944Z
LAST-MODIFIED:20251007T172944Z
UID:47556-1763748000-1763798400@hbgym.de
SUMMARY:Lange Nacht der Mathematik
DESCRIPTION:
URL:https://hbgym.de/termin/lange-nacht-der-mathematik/
END:VEVENT
BEGIN:VEVENT
DTSTART;TZID=Europe/Berlin:20251120T190000
DTEND;TZID=Europe/Berlin:20251120T203000
DTSTAMP:20260419T155851
CREATED:20251007T172806Z
LAST-MODIFIED:20251011T205147Z
UID:47554-1763665200-1763670600@hbgym.de
SUMMARY:Kammermusikabend
DESCRIPTION:
URL:https://hbgym.de/termin/kammermusikabend-4/
LOCATION:Aula
END:VEVENT
BEGIN:VEVENT
DTSTART;TZID=Europe/Berlin:20251115T110000
DTEND;TZID=Europe/Berlin:20251115T150000
DTSTAMP:20260419T155851
CREATED:20251103T195328Z
LAST-MODIFIED:20251107T214120Z
UID:47773-1763204400-1763218800@hbgym.de
SUMMARY:5. Berliner Altsprachenfest
DESCRIPTION:Auch dieses Jahr sind unsere Schüler:innen wieder beim Berliner Altsprachenfest dabei.DVAS-Flyer_Altsprachenfest_2025_digital_B
URL:https://hbgym.de/termin/5-berliner-altsprachenfest/
LOCATION:Humboldt Universität\, Unter den Linden 6\, Berlin
END:VEVENT
BEGIN:VEVENT
DTSTART;TZID=Europe/Berlin:20251013T080000
DTEND;TZID=Europe/Berlin:20251017T233000
DTSTAMP:20260419T155851
CREATED:20251007T161924Z
LAST-MODIFIED:20251007T161924Z
UID:47552-1760342400-1760743800@hbgym.de
SUMMARY:Probenwoche Musik/Kunst\, Antiker Herbst
DESCRIPTION:
URL:https://hbgym.de/termin/probenwoche-musik-kunst-antiker-herbst/
END:VEVENT
BEGIN:VEVENT
DTSTART;TZID=Europe/Berlin:20251009T190000
DTEND;TZID=Europe/Berlin:20251009T210000
DTSTAMP:20260419T155851
CREATED:20250715T065411Z
LAST-MODIFIED:20250715T065411Z
UID:45361-1760036400-1760043600@hbgym.de
SUMMARY:1. GEV-Sitzung
DESCRIPTION:
URL:https://hbgym.de/termin/1-gev-sitzung/
LOCATION:R.36
END:VEVENT
BEGIN:VEVENT
DTSTART;TZID=Europe/Berlin:20251007T073000
DTEND;TZID=Europe/Berlin:20251007T150000
DTSTAMP:20260419T155851
CREATED:20251007T173354Z
LAST-MODIFIED:20251007T173354Z
UID:47561-1759822200-1759849200@hbgym.de
SUMMARY:Generalprobe Weihnachtskonzerte
DESCRIPTION:
URL:https://hbgym.de/termin/generalprobe-weihnachtskonzerte/
LOCATION:Universität der Künste\, Hardenbergstraße 33\, Berlin\, 10623
END:VEVENT
BEGIN:VEVENT
DTSTART;TZID=Europe/Berlin:20250920T100000
DTEND;TZID=Europe/Berlin:20250920T140000
DTSTAMP:20260419T155851
CREATED:20250715T065231Z
LAST-MODIFIED:20250715T065231Z
UID:45359-1758362400-1758376800@hbgym.de
SUMMARY:Gemeinsame Gartenaktion der GEV und des Fachbereichs Biologie
DESCRIPTION:
URL:https://hbgym.de/termin/gemeinsame-gartenaktion-der-gev-und-des-fachbereichs-biologie-2/
LOCATION:Schulgarten
END:VEVENT
BEGIN:VEVENT
DTSTART;TZID=Europe/Berlin:20250912T170000
DTEND;TZID=Europe/Berlin:20250912T190000
DTSTAMP:20260419T155851
CREATED:20250715T065018Z
LAST-MODIFIED:20250911T182620Z
UID:45356-1757696400-1757703600@hbgym.de
SUMMARY:(GEV Begrüßungsfest) - abgesagt
DESCRIPTION:Das Begrüßungsfest für Lernende und Eltern der neuen 5. und 7. Klassen
URL:https://hbgym.de/termin/gev-begruessungsfest/
END:VEVENT
BEGIN:VEVENT
DTSTART;TZID=Europe/Berlin:20250908T080000
DTEND;TZID=Europe/Berlin:20250908T150000
DTSTAMP:20260419T155851
CREATED:20240818T111747Z
LAST-MODIFIED:20240818T111747Z
UID:40183-1757318400-1757343600@hbgym.de
SUMMARY:1.Schultag 2025/26
DESCRIPTION:
URL:https://hbgym.de/termin/1-schultag-2025-26/
END:VEVENT
BEGIN:VEVENT
DTSTART;VALUE=DATE:20250724
DTEND;VALUE=DATE:20250906
DTSTAMP:20260419T155851
CREATED:20240715T091647Z
LAST-MODIFIED:20240715T091647Z
UID:39900-1753315200-1757116799@hbgym.de
SUMMARY:Sommerferien
DESCRIPTION:
URL:https://hbgym.de/termin/sommerferien/
END:VEVENT
BEGIN:VEVENT
DTSTART;TZID=Europe/Berlin:20250723T080000
DTEND;TZID=Europe/Berlin:20250723T104000
DTSTAMP:20260419T155851
CREATED:20240818T110850Z
LAST-MODIFIED:20240818T111008Z
UID:40175-1753257600-1753267200@hbgym.de
SUMMARY:Zeugnisse 5-Q2 (Unterrichtsschluss nach der 3.Std)
DESCRIPTION:
URL:https://hbgym.de/termin/zeugnisse-5-10-unterrichtsschluss-nach-der-3-std-2/
END:VEVENT
BEGIN:VEVENT
DTSTART;VALUE=DATE:20250722
DTEND;VALUE=DATE:20250723
DTSTAMP:20260419T155851
CREATED:20240818T111056Z
LAST-MODIFIED:20240818T111056Z
UID:40179-1753142400-1753228799@hbgym.de
SUMMARY:Ball-Turnier Kl.5/6
DESCRIPTION:
URL:https://hbgym.de/termin/ball-turnier-kl-5-6/
END:VEVENT
BEGIN:VEVENT
DTSTART;TZID=Europe/Berlin:20250702T190000
DTEND;TZID=Europe/Berlin:20250702T220000
DTSTAMP:20260419T155851
CREATED:20240715T105500Z
LAST-MODIFIED:20240715T105500Z
UID:39918-1751482800-1751493600@hbgym.de
SUMMARY:Sommerkonzert
DESCRIPTION:
URL:https://hbgym.de/termin/sommerkonzert-2/
END:VEVENT
BEGIN:VEVENT
DTSTART;TZID=Europe/Berlin:20250701T190000
DTEND;TZID=Europe/Berlin:20250701T220000
DTSTAMP:20260419T155851
CREATED:20240715T105415Z
LAST-MODIFIED:20240715T105415Z
UID:39916-1751396400-1751407200@hbgym.de
SUMMARY:Sommerkonzert
DESCRIPTION:
URL:https://hbgym.de/termin/sommerkonzert/
END:VEVENT
BEGIN:VEVENT
DTSTART;TZID=Europe/Berlin:20250630T080000
DTEND;TZID=Europe/Berlin:20250630T150000
DTSTAMP:20260419T155851
CREATED:20240715T105547Z
LAST-MODIFIED:20240715T105547Z
UID:39920-1751270400-1751295600@hbgym.de
SUMMARY:Sommerkonzert Generalprobe
DESCRIPTION:
URL:https://hbgym.de/termin/sommerkonzert-generalprobe/
END:VEVENT
BEGIN:VEVENT
DTSTART;TZID=Europe/Berlin:20250626T180000
DTEND;TZID=Europe/Berlin:20250626T200000
DTSTAMP:20260419T155851
CREATED:20241014T070829Z
LAST-MODIFIED:20250512T071253Z
UID:41708-1750960800-1750968000@hbgym.de
SUMMARY:Get-together der GEV(Schulgarten)
DESCRIPTION:
URL:https://hbgym.de/termin/get-together-der-gevschulgarten/
END:VEVENT
BEGIN:VEVENT
DTSTART;VALUE=DATE:20250625
DTEND;VALUE=DATE:20250626
DTSTAMP:20260419T155851
CREATED:20240818T110439Z
LAST-MODIFIED:20250325T155724Z
UID:40173-1750809600-1750895999@hbgym.de
SUMMARY:Bundesjugendspiele
DESCRIPTION:
URL:https://hbgym.de/termin/bundesjugendspiele/
END:VEVENT
BEGIN:VEVENT
DTSTART;TZID=Europe/Berlin:20250612T151500
DTEND;TZID=Europe/Berlin:20250612T171500
DTSTAMP:20260419T155851
CREATED:20240818T110348Z
LAST-MODIFIED:20240818T110348Z
UID:40171-1749741300-1749748500@hbgym.de
SUMMARY:4.Gesamtkonferenz Schuljahr 24/25
DESCRIPTION:
URL:https://hbgym.de/termin/4-gesamtkonferenz-schuljahr-24-25/
END:VEVENT
END:VCALENDAR